BEGIN:VCALENDAR
VERSION:2.0
PRODID:-//Squarespace Inc/Squarespace 6//v6//EN
BEGIN:VEVENT
UID:58ec840729687f61a5ccde03@squarespace.com
DTSTAMP:20170411T072245Z
DTSTART:20171214T160100Z
DTEND:20180128T155900Z
SUMMARY:School Holidays W.A. (End of Term 4)
END:VEVENT
END:VCALENDAR
