BEGIN:VCALENDAR
VERSION:2.0
PRODID:-//Squarespace Inc/Squarespace 6//v6//EN
BEGIN:VEVENT
UID:58ec81bd1b10e31ac3eabcbb@squarespace.com
DTSTAMP:20170411T071320Z
DTSTART:20171224T160100Z
DTEND:20171225T155900Z
SUMMARY:Christmas Day 
END:VEVENT
END:VCALENDAR
