BEGIN:VCALENDAR
VERSION:2.0
PRODID:-//Squarespace Inc/Squarespace 6//v6//EN
BEGIN:VEVENT
UID:58ec821a46c3c4f15282b919@squarespace.com
DTSTAMP:20170411T071412Z
DTSTART:20171225T160100Z
DTEND:20171226T155900Z
SUMMARY:Boxing Day
END:VEVENT
END:VCALENDAR
