BEGIN:VCALENDAR
VERSION:2.0
PRODID:-//Squarespace Inc/Squarespace 6//v6//EN
BEGIN:VEVENT
UID:58ec850be3df284d3af1d0e4@squarespace.com
DTSTAMP:20170411T073120Z
DTSTART:20170514T160100Z
DTEND:20170519T155900Z
SUMMARY:Law Week Western Australia
END:VEVENT
END:VCALENDAR
