BEGIN:VCALENDAR
VERSION:2.0
PRODID:-//Squarespace Inc/Squarespace 6//v6//EN
BEGIN:VEVENT
UID:58ec7eecff7c5006ef8fa11c@squarespace.com
DTSTAMP:20170411T070305Z
DTSTART:20170413T160100Z
DTEND:20170414T155900Z
SUMMARY:Good Friday (Western Australia Public Holiday) 
END:VEVENT
END:VCALENDAR
