BEGIN:VCALENDAR
VERSION:2.0
PRODID:-//Squarespace Inc/Squarespace 6//v6//EN
BEGIN:VEVENT
UID:58ec7fd8f7e0ab189a9c2aa4@squarespace.com
DTSTAMP:20170411T070545Z
DTSTART:20170416T160100Z
DTEND:20170417T155900Z
SUMMARY:Easter Monday ( W.A. Public Holiday)
END:VEVENT
END:VCALENDAR
