BEGIN:VCALENDAR
VERSION:2.0
PRODID:-//Squarespace Inc/Squarespace 6//v6//EN
BEGIN:VEVENT
UID:58ec8058b3db2bd94e25053c@squarespace.com
DTSTAMP:20170411T070647Z
DTSTART:20170424T160100Z
DTEND:20170425T155900Z
SUMMARY:Anzac Day 
END:VEVENT
END:VCALENDAR
