BEGIN:VCALENDAR
VERSION:2.0
PRODID:-//Squarespace Inc/Squarespace 6//v6//EN
BEGIN:VEVENT
UID:58ec82aa3a0411e543b18fdf@squarespace.com
DTSTAMP:20170411T072308Z
DTSTART:20170407T160100Z
DTEND:20170422T155900Z
SUMMARY:School Holidays W.A. (End Term 1)
END:VEVENT
END:VCALENDAR
