BEGIN:VCALENDAR
VERSION:2.0
PRODID:-//Squarespace Inc/Squarespace 6//v6//EN
BEGIN:VEVENT
UID:58ec80def5e2312e1cdd00b2@squarespace.com
DTSTAMP:20170411T070940Z
DTSTART:20170604T160100Z
DTEND:20170605T155900Z
SUMMARY:W.A. Day (W.A. Public Holiday)
END:VEVENT
END:VCALENDAR
