BEGIN:VCALENDAR
VERSION:2.0
PRODID:-//Squarespace Inc/Squarespace 6//v6//EN
BEGIN:VEVENT
UID:58ec831d579fb356c83d2c89@squarespace.com
DTSTAMP:20170411T072324Z
DTSTART:20170701T160100Z
DTEND:20170715T155900Z
SUMMARY:School Holidays W.A. (End of Term 2)
END:VEVENT
END:VCALENDAR
