BEGIN:VCALENDAR
VERSION:2.0
PRODID:-//Squarespace Inc/Squarespace 6//v6//EN
BEGIN:VEVENT
UID:58ec83af2994cac6dfbb8fb4@squarespace.com
DTSTAMP:20170411T072131Z
DTSTART:20170922T160100Z
DTEND:20171008T155900Z
SUMMARY:School Holidays W.A. (End of Term 3)
END:VEVENT
END:VCALENDAR
