BEGIN:VCALENDAR
VERSION:2.0
PRODID:-//Squarespace Inc/Squarespace 6//v6//EN
BEGIN:VEVENT
UID:58ec814ca5790acbf01dd4d2@squarespace.com
DTSTAMP:20170411T071149Z
DTSTART:20170924T160100Z
DTEND:20170925T155900Z
SUMMARY:Queen's Birthday (W.A. Public Holiday)
END:VEVENT
END:VCALENDAR
