BEGIN:VCALENDAR
VERSION:2.0
PRODID:-//Squarespace Inc/Squarespace 6//v6//EN
BEGIN:VEVENT
UID:5b7cc3dd40ec9a4b73431f54@squarespace.com
DTSTAMP:20180822T020246Z
DTSTART:20180925T093000Z
DTEND:20180925T103000Z
SUMMARY:Law Society of WA Members - Free Pilates Classes
GEO:-31.95383;115.855088
LOCATION:Law Society of WA\, Level 5\, 160 St Georges Tce\, Perth 6000\, We
 stern Australia
END:VEVENT
END:VCALENDAR
