BEGIN:VCALENDAR
VERSION:2.0
PRODID:-//Squarespace Inc/Squarespace 6//v6//EN
BEGIN:VEVENT
UID:5b7cc2b1cd83661b26dd3b8d@squarespace.com
DTSTAMP:20180822T015804Z
DTSTART:20180910T093000Z
DTEND:20180910T103000Z
SUMMARY:Law Society of WA Members - Free Pilates Classes
GEO:-32.063226;115.799194
LOCATION:Law Society of WA\, Level 5\, 160 St Georges Tce\, Perth 6000\, We
 stern Australia
END:VEVENT
END:VCALENDAR
