BEGIN:VCALENDAR
VERSION:2.0
PRODID:-//Squarespace Inc/Squarespace 6//v6//EN
BEGIN:VEVENT
UID:5b7cbeb7562fa73ad47d3d84@squarespace.com
DTSTAMP:20180822T015227Z
DTSTART:20180828T093000Z
DTEND:20180828T103000Z
SUMMARY:Law Society of WA Members - Free Pilates Classes
GEO:-31.95383;115.855088
LOCATION:Law Society of WA\, Level 5\, 160 St Georges Tce\, Perth 6000\, We
 stern Australia
END:VEVENT
END:VCALENDAR
